BEGIN:VCALENDAR
VERSION:2.0
PRODID:-//Ryan Niemiller - ECPv5.10.0//NONSGML v1.0//EN
CALSCALE:GREGORIAN
METHOD:PUBLISH
X-WR-CALNAME:Ryan Niemiller
X-ORIGINAL-URL:https://www.cripplethreat.com
X-WR-CALDESC:Events for Ryan Niemiller
BEGIN:VTIMEZONE
TZID:UTC
BEGIN:STANDARD
TZOFFSETFROM:+0000
TZOFFSETTO:+0000
TZNAME:UTC
DTSTART:20190101T000000
END:STANDARD
END:VTIMEZONE
BEGIN:VEVENT
DTSTART;TZID=UTC:20190330T190000
DTEND;TZID=UTC:20190330T220000
DTSTAMP:20260421T092534
CREATED:20190307T231253Z
LAST-MODIFIED:20190307T231253Z
UID:3431-1553972400-1553983200@www.cripplethreat.com
SUMMARY:Harvard Yard Bar
DESCRIPTION:
URL:https://www.cripplethreat.com/event/harvard-yard-bar/
LOCATION:Harvard Yard Bar\, 1400 S. Western Ave\, Los Angeles\, California\, 90006\, United States
END:VEVENT
END:VCALENDAR